BEGIN:VCALENDAR
VERSION:2.0
PRODID:-//wp-events-plugin.com//7.2.3.1//EN
BEGIN:VEVENT
UID:12@ramonaranchwines.com
DTSTART;VALUE=DATE:20260427
DTEND;VALUE=DATE:20260505
DTSTAMP:20250822T182050Z
URL:https://ramonaranchwines.com/events/gems-of-southeast-europe-river-cru
 ise-april-27-may-4-2026-2/
SUMMARY:Gems of Southeast Europe River Cruise\, April 27 - May 4\, 2026
DESCRIPTION:Travel With Us! Since 2017\, we’ve whisked our fabulous wine 
 club members on three swoon-worthy European river cruises (hello\, Portuga
 l\, Germany\, and France!)\, plus some epic adventures to Alaska\, Tequila
  Mexico\, the Bourbon Trail in Kentucky\, and the jazz-filled streets of N
 ew Orleans is on our agenda for 2025. In 2026\, get ready to hop aboard as
  we glide down the stunning Blue Danube\, exploring the Balkan gems of Hun
 gary\, Croatia\, Serbia\, Bulgaria\, and Romania!  Visit here to learn mor
 e.\n\nBut wait\, there’s more! We have two glorious land tours before an
 d after the cruise.\n
ATTACH;FMTTYPE=image/jpeg:https://ramonaranchwines.com/wp-content/uploads/
 2024/11/2026-River-Cruise.jpg
CATEGORIES:Travel
LOCATION:https://toursandwine.com/rrdanube26/
END:VEVENT
END:VCALENDAR